BEGIN:VCALENDAR
VERSION:2.0
PRODID:
BEGIN:VEVENT
UID:469761ad
DTSTAMP:20260423T174450Z
DTSTART:20260813T160000Z
DTEND:20260813T200000Z
LOCATION: Tennis Hall of Fame (Newport\, 02840)
SUMMARY: Karter Kup Tennis (Spectator) (Multi-State) Multi State
DESCRIPTION: Back by popular demand! CTCPA\, MACPA\, RICPA\, and NHCPA are joining together to host the Multi-State Karter Kup Tennis Scramble at the historic Tennis Hall of Fame in Newport\, RI. \n  \nNot quite ready to play in the Karter Kup Tennis Scramble? That's ok. Attend as a spectator and be a part of the excitement! \n  \nHave questions\, please contact Jill Foley at <a href="mailto:jfoley@masscpas.org" target="">jfoley@masscpas.org</a>\n 
CLASS:PUBLIC
END:VEVENT
END:VCALENDAR
