BEGIN:VCALENDAR
VERSION:2.0
PRODID:
BEGIN:VEVENT
UID:469760ad
DTSTAMP:20260423T173813Z
DTSTART:20260813T160000Z
DTEND:20260813T200000Z
LOCATION: Tennis Hall of Fame (Newport\, 02840)
SUMMARY: Karter Kup Tennis Tournament Scramble (Multi-State)
DESCRIPTION: \nBack by popular demand! CTCPA\, MACPA\, RICPA\, and NHCPA are joining together to host the Multi-State Karter Kup Tennis Tournament. \n  \nThe Karter Kup Tennis Scramble is played on the grass courts of the Tennis Hall of Fame in Newport\, RI! All members and their guests are welcome to play\; nonmember guests must be registered by a member. This is a fun day on the courts and all levels are encouraged to participate.  Lunch will be served at 12:30 p.m.AgendaLunch: 12:30PM - 1:30 p.m.Tournament Play: 1:30 - 4 p.m.Please note\, all players must dress in tennis whites while playing on the courts (coloring in white shoes is permitted). Players must bring their own racket\, but tennis balls will be provided\n \nIf you're interested in participating or have any questions\, please contact Jill Foley at <a href="mailto:jfoley@masscpas.org">jfoley@masscpas.org</a>.\n\n  
CLASS:PUBLIC
END:VEVENT
END:VCALENDAR
