BEGIN:VCALENDAR
VERSION:2.0
PRODID:
BEGIN:VEVENT
UID:469759ad
DTSTAMP:20260423T174450Z
DTSTART:20260813T160000Z
DTEND:20260813T200000Z
LOCATION: Tennis Hall of Fame (Newport\, 02840)
SUMMARY: Karter Kup Tennis Clinic (Multi-State)
DESCRIPTION: Back by popular demand! CTCPA\, MACPA\, RICPA\, and NHCPA are joining together to again host the Multi-State Karter Kup Tennis Clinic at the historic Tennis Hall of Fame in Newport\, RI. \n  \nNot quite ready for the Karter Kup Tennis Scramble? We've got you covered. Attend this tennis clinic led by a seasoned pro and dive into the excitement! The clinic is open to all members and their guests (non-members must be registered by a member). Whether you're a beginner or brushing up your skills\, all levels are encouraged to participate. Lunch will be served at 12:30 p.m.AgendaLunch: 12:30 - 1:30 p.m.Clinic: 1:30 - 3 p.m.\n  \nPlease note: All players must dress in tennis whites while playing on the courts (coloring in white shoes is permitted). Players must bring their own racket\, but tennis balls will be provided. If you're interested in participating or have any questions\, please contact Jill Foley at <a href="mailto:jfoley@masscpas.org" target="">jfoley@masscpas.org</a>\n 
CLASS:PUBLIC
END:VEVENT
END:VCALENDAR
