BEGIN:VCALENDAR
VERSION:2.0
PRODID:
BEGIN:VEVENT
UID:469758ad
DTSTAMP:20260420T100215Z
DTSTART:20260508T160000Z
DTEND:20260508T170000Z
LOCATION: Online
SUMMARY: Educators Group Meeting
DESCRIPTION: This virtual College Educators meeting will provide a focused update on key developments impacting accounting education. Topics include CPA Evolution exam performance trends as of 2025 Q3\, discipline-level insights\, and an overview of recent changes to Connecticut’s CPA education and eligibility requirements adopted by the State Board of Accountancy\n \nObtain practical insights to support academic advising\, curriculum alignment\, and student readiness for the CPA Exam\, along with the opportunity to engage in peer discussion with fellow educators from across the state\n 
CLASS:PUBLIC
END:VEVENT
END:VCALENDAR
