BEGIN:VCALENDAR
VERSION:2.0
PRODID:
BEGIN:VEVENT
UID:469736kam
DTSTAMP:20260422T095520Z
DTSTART:20261214T143000Z
DTEND:20261214T220000Z
LOCATION: Online
SUMMARY: K2's Excel Mastery for Accounting Professionals Conference (VIRTUAL)
DESCRIPTION: Excel remains the most critical tool in any accounting professional's arsenal—but the platform keeps evolving\, and most practitioners aren't tapping into even half of what's now possible. This specialized conference cuts through the noise to focus exclusively on Microsoft Excel's latest capabilities that matter most to your daily workflow. From dynamic arrays and LAMBDA functions to Power Query automation and modern data manipulation tools\, you'll discover features that can genuinely transform how you work. These aren't theoretical exercises—they're real-world techniques you can implement immediately to handle larger datasets\, reduce errors\, and reclaim hours every week.Whether you're still relying on methods from five years ago or you're already pushing Excel's boundaries\, these sessions will equip you with practical skills that make an immediate difference. With two opportunities to attend in 2026\, you can choose the timing that works best or revisit the material as Excel continues its rapid evolution. Don't let your Excel knowledge stagnate while the platform races ahead.
CLASS:PUBLIC
END:VEVENT
END:VCALENDAR
