BEGIN:VCALENDAR
VERSION:2.0
PRODID:
BEGIN:VEVENT
UID:469735kam
DTSTAMP:20260420T123202Z
DTSTART:20260601T143000Z
DTEND:20260601T220000Z
LOCATION: Online
SUMMARY: K2's Excel Conference (VIRTUAL)
DESCRIPTION: Excel is an indispensable tool for accounting and financial professionals\, yet many still aren’t using it to its full potential. That’s where the Summer Excel Conference comes in\n \nJoin this exclusive\, one-day virtual seminar designed to elevate your Excel skills and transform how you work. Catering specifically to accountants\, CPAs\, and financial professionals\, this dynamic conference will teach you to leverage Excel’s powerful features and adopt best practices that maximize efficiency\, improve security\, and boost productivity\n 
CLASS:PUBLIC
END:VEVENT
END:VCALENDAR
