BEGIN:VCALENDAR
VERSION:2.0
PRODID:
BEGIN:VEVENT
UID:469730ats
DTSTAMP:20260420T141226Z
DTSTART:20260519T122000Z
DTEND:20260520T155000Z
LOCATION: Online
SUMMARY: Employee Benefit Plans Conference (VIRTUAL)
DESCRIPTION: Please be aware that this year's conference will only be held virtually and it will take place over the course of 2 mornings (May 19 &amp\; May 20th).\n  \nThis CTCPA conference updates practitioners on a variety of topics in the employee benefit plans area\n 
CLASS:PUBLIC
END:VEVENT
END:VCALENDAR
