BEGIN:VCALENDAR
VERSION:2.0
PRODID:
BEGIN:VEVENT
UID:469231mb
DTSTAMP:20260420T081947Z
DTSTART:20260423T130000Z
DTEND:20260423T170000Z
LOCATION: Online
SUMMARY: Interpreting the FASB Revenue Recognition Standard: What All CPAs Need to Know
DESCRIPTION: Well-defined revenue recognition guidelines\, insights and practical management tips designed to address the complexities of FASB ASC 606.
CLASS:PUBLIC
END:VEVENT
END:VCALENDAR
