BEGIN:VCALENDAR
VERSION:2.0
PRODID:
BEGIN:VEVENT
UID:468696mb
DTSTAMP:20260421T114454Z
DTSTART:20260630T180000Z
DTEND:20260630T185900Z
LOCATION: Online
SUMMARY: A New Productivity for the New World. Goal Achievement for the 21st Century\, A Whole Brain Approach
DESCRIPTION: Most productivity planners could have been made in 1975. However\, we have learned more about the brain in the last 5 years than in the last 500!  If productivity involves filtering out distractions\, focusing\, and executing on what is most important\, shouldn&rsquo\;t there be a brain-based approach that incorporates the new science to help your organization fight distractions and find time? \n  

Yes\, there should be\, and now there is! \n  

It is time for a new productivity for the new world. In this course\, you will learn science-based whole brain approach to help people across your organization boost focus\, energy\, and motivation toward what matters most so they can increase their opportunity to achieve your organizations most important goals\n 
CLASS:PUBLIC
END:VEVENT
END:VCALENDAR
