BEGIN:VCALENDAR
VERSION:2.0
PRODID:
BEGIN:VEVENT
UID:468676mb
DTSTAMP:20260421T111203Z
DTSTART:20260629T150000Z
DTEND:20260629T164700Z
LOCATION: Online
SUMMARY: Governmental Accounting 101
DESCRIPTION: Governmental Accounting 101\, is a 2 hour webcast that takes the participant of a whirlwind tour of governmental accounting basics\, focusing on wetting the participant&rsquo\;s appetite for more.  This session will be the first of a series of webcasts\, with each subsequent webcast delving deeper and deeper into the governmental accounting basics. \n  
CLASS:PUBLIC
END:VEVENT
END:VCALENDAR
