BEGIN:VCALENDAR
VERSION:2.0
PRODID:
BEGIN:VEVENT
UID:468636mb
DTSTAMP:20260420T062536Z
DTSTART:20260625T200000Z
DTEND:20260625T234000Z
LOCATION: Online
SUMMARY: The Art of Marketing for CPAs
DESCRIPTION: To make more money in less time\, all accountants need to learn to market themselves effectively to their clients or their firm. For better or worse\, promotions and more money go to those who are the best marketers\, rather than the most competent accountants.  In this fascinating and fun workshop\, participants will learn seven key ways to get more clients and/or promotions through the art of marketing\n 
CLASS:PUBLIC
END:VEVENT
END:VCALENDAR
