BEGIN:VCALENDAR
VERSION:2.0
PRODID:
BEGIN:VEVENT
UID:468605mb
DTSTAMP:20260422T221022Z
DTSTART:20260623T190000Z
DTEND:20260623T200200Z
LOCATION: Online
SUMMARY: Ethics - Keeping the Good from Breaking Bad
DESCRIPTION: Ethics are how groups define right from wrong. Codes of Ethics define good behavior from bad behavior for professionals. When we break those codes\, we "break bad." For five seasons\, the popular television show "Breaking Bad" explored the transformation of one good man breaking bad. This session provides an overview of ethics and why people break bad\, while using examples from the TV show as well as case studies of good people who broke bad\n 
CLASS:PUBLIC
END:VEVENT
END:VCALENDAR
