BEGIN:VCALENDAR
VERSION:2.0
PRODID:
BEGIN:VEVENT
UID:468600mb
DTSTAMP:20260420T164618Z
DTSTART:20260623T160000Z
DTEND:20260623T170200Z
LOCATION: Online
SUMMARY: Enact Retaliation Abatement and Monitoring Measures
DESCRIPTION: Once an employee decides to report an issue\, the risk for retaliation must be minimized. Metrics matter. As such\, capturing and reviewing employee data for indicators of possible retaliation are key to protecting those who report. The more subtle forms of retaliation\, though\, require a focused communication plan to address. This course offers recommendations for implementing specific retaliation monitoring protocols\n 
CLASS:PUBLIC
END:VEVENT
END:VCALENDAR
