BEGIN:VCALENDAR
VERSION:2.0
PRODID:
BEGIN:VEVENT
UID:468550mb
DTSTAMP:20260419T201821Z
DTSTART:20260618T200000Z
DTEND:20260618T214700Z
LOCATION: Online
SUMMARY: Liquidity & Uncertainty Disclosures for Nonprofits
DESCRIPTION: The current environment could be having an enormous impact on accounting and financial reporting for all entities\, including nonprofits. This course will provide insights into the most critical disclosures related to liquidity\, accounting uncertainty\, and going concern for nonprofits\n 
CLASS:PUBLIC
END:VEVENT
END:VCALENDAR
