BEGIN:VCALENDAR
VERSION:2.0
PRODID:
BEGIN:VEVENT
UID:468441mb
DTSTAMP:20260422T111847Z
DTSTART:20260610T140000Z
DTEND:20260610T173300Z
LOCATION: Online
SUMMARY: The Power of a Good Story!
DESCRIPTION: Storytelling makes wisdom stick\n 
CLASS:PUBLIC
END:VEVENT
END:VCALENDAR
