BEGIN:VCALENDAR
VERSION:2.0
PRODID:
BEGIN:VEVENT
UID:468430mb
DTSTAMP:20260422T221901Z
DTSTART:20260609T170000Z
DTEND:20260609T184600Z
LOCATION: Online
SUMMARY: Applying the New Expected Credit Loss Model
DESCRIPTION: All entities are subject to the new expected credit loss model established by recent GAAP.  This course will provide highlights of the latest requirements for measurement\, presentation\, and disclosure.  \n  
CLASS:PUBLIC
END:VEVENT
END:VCALENDAR
