BEGIN:VCALENDAR
VERSION:2.0
PRODID:
BEGIN:VEVENT
UID:468419mb
DTSTAMP:20260420T233356Z
DTSTART:20260608T200000Z
DTEND:20260608T210000Z
LOCATION: Online
SUMMARY: The Ethics Hour: Heartfelt Leadership: How Ethical Leaders Build Trust\, featuring John F. Levy\, MBA\, CPA\, CIA and Don Minges\, MBA
DESCRIPTION: The best leaders are always ethical. Every great leader has heart and readily shows that they care. What is the true value of a trustworthy leader? Why do we need trustworthy leaders? How do we examine ethical issues - what is the process? Trust provides a safety net that enables innovation to flourish. Be the best leader you can be by caring about others and remaining ethical\n 

Ethics is fundamentally how we treat others. Do we measure up to that standard?\n  
CLASS:PUBLIC
END:VEVENT
END:VCALENDAR
