BEGIN:VCALENDAR
VERSION:2.0
PRODID:
BEGIN:VEVENT
UID:468339mb
DTSTAMP:20260424T230318Z
DTSTART:20260601T190000Z
DTEND:20260601T200000Z
LOCATION: Online
SUMMARY: Promote Internal Whistleblowing and Succeed in Creating a Strong Speak Up Culture
DESCRIPTION: The Department of Justice updated guidance regarding their evaluations of Corporate Compliance Programs in March 2023: &ldquo\;Prosecutors should assess whether the company&rsquo\;s complaint-handling process includes proactive measures to create a workplace atmosphere without fear of retaliation\, appropriate processes for the submission of complaints\, and processes to protect whistleblowers.&rdquo\;\n  

This course offers recommendations for employers to consider when developing or augmenting an internal complaint handling process. Organizations benefit when whistleblowers trust the process and choose to promptly report their concerns internally. The measures offered promote a strong speak up culture and align with the Department of Justice&#39\;s guidance. \n  
CLASS:PUBLIC
END:VEVENT
END:VCALENDAR
