BEGIN:VCALENDAR
VERSION:2.0
PRODID:
BEGIN:VEVENT
UID:468328mb
DTSTAMP:20260424T075932Z
DTSTART:20260601T130000Z
DTEND:20260601T141400Z
LOCATION: Online
SUMMARY: Revenue Recognition - Topic 606 Disclosures
DESCRIPTION: The standard also requires information about the following categories: \n  


	disaggregation of revenue
	contract balances
	performance obligations


This webinar will deal directly with disclosure requirements for the standard. Several courses currently exist on the platform related to an overview of the standard and deep dive into individual steps of the standards. 
 \n  
CLASS:PUBLIC
END:VEVENT
END:VCALENDAR
