BEGIN:VCALENDAR
VERSION:2.0
PRODID:
BEGIN:VEVENT
UID:468322mb
DTSTAMP:20260421T083739Z
DTSTART:20260530T170000Z
DTEND:20260530T184600Z
LOCATION: Online
SUMMARY: Leveraging Analytical Procedures to the Fullest on Audits - Case Studies in Strengthening Audit Evidence
DESCRIPTION: Peer review deficiencies commonly relate to the design\, documentation\, and evaluation of the results of analytical procedures.  This course will provide examples of how to strengthen evidence resulting from preliminary\, substantive\, and final analytics. It will reinforce the elements of strong analytical procedures that may enhance the quality of audits\n 
CLASS:PUBLIC
END:VEVENT
END:VCALENDAR
