BEGIN:VCALENDAR
VERSION:2.0
PRODID:
BEGIN:VEVENT
UID:468277mb
DTSTAMP:20260423T100126Z
DTSTART:20260528T140000Z
DTEND:20260528T155200Z
LOCATION: Online
SUMMARY: Business Intelligence (BI) and Business Analytics (BA)
DESCRIPTION: Volatility and complexity are the new normal. Most organizations are drowning in data\, but starving for information. The finance and accounting function has the opportunity to leverage Big Data and the continuum of analytics &ndash\; descriptive\, diagnostic\, predictive\, and prescriptive. All are useful for better decision making. Collecting\, validating\, and reporting data is not the same thing as analyzing information where we can glean valuable\, actionable insights. In some ways the finance function is many years behind other disciplines such as marketing\, sales\, and supply chain managers\, in applying analytics. How can the CFO&rsquo\;s function catch up?\n  
CLASS:PUBLIC
END:VEVENT
END:VCALENDAR
