BEGIN:VCALENDAR
VERSION:2.0
PRODID:
BEGIN:VEVENT
UID:468253mb
DTSTAMP:20260423T110809Z
DTSTART:20260526T190000Z
DTEND:20260526T195400Z
LOCATION: Online
SUMMARY: Five Ways to Improve Your Leadership Skills
DESCRIPTION: This course provides practical suggestions for improving leadership skills\, including self-awareness\, communication\, delegation\, empowerment\, coaching\, and counseling. \n  
CLASS:PUBLIC
END:VEVENT
END:VCALENDAR
