BEGIN:VCALENDAR
VERSION:2.0
PRODID:
BEGIN:VEVENT
UID:468250mb
DTSTAMP:20260421T143343Z
DTSTART:20260526T190000Z
DTEND:20260526T200000Z
LOCATION: Online
SUMMARY: K2's Ten PDF Tips You Need To Know
DESCRIPTION: Portable Document Format (PDF) documents are everywhere! Yet few know how to work effectively with these documents. If you are interested in working more effectively and efficiently with PDFs\, this session is for you. In this session\, you will learn valuable tips you can use to assist you with creating\, editing\, and securing PDFs. You will also learn how to convert PDFs to fillable forms and secure PDFs\, among other features. Don&#39\;t miss this chance to learn ten PDF tips you need to know to increase your ROI on PDFs\n 
CLASS:PUBLIC
END:VEVENT
END:VCALENDAR
