BEGIN:VCALENDAR
VERSION:2.0
PRODID:
BEGIN:VEVENT
UID:468175mb
DTSTAMP:20260422T105234Z
DTSTART:20260520T150000Z
DTEND:20260520T163800Z
LOCATION: Online
SUMMARY: Revenue Recognition - Allocate the Transaction Price
DESCRIPTION: The updated revenue recognition standard outlines five steps for proper compliance. At the surface\, these steps seem simplistic. However\, there are many considerations that should be considered within each step based on your process and industry.  \n  
CLASS:PUBLIC
END:VEVENT
END:VCALENDAR
