BEGIN:VCALENDAR
VERSION:2.0
PRODID:
BEGIN:VEVENT
UID:468172mb
DTSTAMP:20260421T083647Z
DTSTART:20260520T140000Z
DTEND:20260520T160000Z
LOCATION: Online
SUMMARY: Ethics\, Tax Practice & The Cannabis Industry
DESCRIPTION: This course provides an in-depth discussion of the ethical considerations and compliance requirements when working with taxpayers in the cannabis industry. Attendees will review the implications of Circular 230\, preparer due diligence\, and the specific challenges posed by conflicting federal and state laws. Federal case law\, standards set by Boards of Accountancy\, and guidance from the IRS Office of Professional Responsibility will also be covered to help practitioners navigate this complex area with confidence\n 
CLASS:PUBLIC
END:VEVENT
END:VCALENDAR
