BEGIN:VCALENDAR
VERSION:2.0
PRODID:
BEGIN:VEVENT
UID:468121mb
DTSTAMP:20260424T093404Z
DTSTART:20260516T190000Z
DTEND:20260516T224400Z
LOCATION: Online
SUMMARY: Planning for Small Business Success
DESCRIPTION: Strategic Planning for SMEs\n  
CLASS:PUBLIC
END:VEVENT
END:VCALENDAR
