BEGIN:VCALENDAR
VERSION:2.0
PRODID:
BEGIN:VEVENT
UID:468085mb
DTSTAMP:20260420T114145Z
DTSTART:20260514T180000Z
DTEND:20260514T194800Z
LOCATION: Online
SUMMARY: The Role of Internal Audit in SOX Compliance
DESCRIPTION: The Sarbanes Oxley Act (SOX) continues to pose challenges with compliance. Companies must continue to evaluate whether they have designed and implemented an adequate system of internal controls over financial reporting (ICFR). This course will address the best practices that ensure an effective and efficient approach to SOX compliance. \n  
CLASS:PUBLIC
END:VEVENT
END:VCALENDAR
