BEGIN:VCALENDAR
VERSION:2.0
PRODID:
BEGIN:VEVENT
UID:468054mb
DTSTAMP:20260424T214412Z
DTSTART:20260512T210000Z
DTEND:20260512T224500Z
LOCATION: Online
SUMMARY: K2's The ABCs of Automation With Microsoft's Power Platform
DESCRIPTION: Automation and standardization are two of the keys to productivity\, but most people who are not programmers are unsure where to start. Microsoft&rsquo\;s Power Platform is a comprehensive platform for creating automated workflows\, integrations\, and data-driven reports. Components include Power BI\, Power Apps\, Power Automate\, Power Pages\, and Power Virtual Agents. Attend this session to learn about this platform and how everyone can use its low-code\, no-code environment to solve process challenges\n 
CLASS:PUBLIC
END:VEVENT
END:VCALENDAR
