BEGIN:VCALENDAR
VERSION:2.0
PRODID:
BEGIN:VEVENT
UID:467995mb
DTSTAMP:20260421T142553Z
DTSTART:20260508T190000Z
DTEND:20260508T200000Z
LOCATION: Online
SUMMARY: K2's After QuickBooks\, What's Next?
DESCRIPTION: Accounting professionals face a critical technological shift with the discontinuation of QuickBooks Pro and Premier sales in 2024. This course explores the transition to modern platforms\, including QuickBooks Online\, Xero\, Zoho Books\, FreshBooks\, and more. Participants will gain insights into key features\, integration capabilities\, add-on solutions\, and payroll and reporting functionalities. Learn strategies for seamless implementation and discover how to guide clients effectively through this change. Comparative tables and expert insights will equip you to make informed recommendations for your practice or small business. Attend this session and learn more about platforms available for small businesses\n 
CLASS:PUBLIC
END:VEVENT
END:VCALENDAR
