BEGIN:VCALENDAR
VERSION:2.0
PRODID:
BEGIN:VEVENT
UID:467988mb
DTSTAMP:20260420T233802Z
DTSTART:20260508T160000Z
DTEND:20260508T170000Z
LOCATION: Online
SUMMARY: The Ethics Hour: Heartfelt Leadership: How Ethical Leaders Build Trust\, featuring John F. Levy\, MBA\, CPA\, CIA and Don Minges\, MBA
DESCRIPTION: The best leaders are always ethical. Every great leader has heart and readily shows that they care. What is the true value of a trustworthy leader? Why do we need trustworthy leaders? How do we examine ethical issues - what is the process? Trust provides a safety net that enables innovation to flourish. Be the best leader you can be by caring about others and remaining ethical\n 

Ethics is fundamentally how we treat others. Do we measure up to that standard?\n  
CLASS:PUBLIC
END:VEVENT
END:VCALENDAR
