BEGIN:VCALENDAR
VERSION:2.0
PRODID:
BEGIN:VEVENT
UID:467974mb
DTSTAMP:20260420T005048Z
DTSTART:20260507T180000Z
DTEND:20260507T194800Z
LOCATION: Online
SUMMARY: The Motives and Mystery of Ethics-Understanding the Why
DESCRIPTION: Our guidance on ethics comes from the AICPA and other groups\, but it does not fully address the &ldquo\;why&rdquo\; behind ethics. This session will examine and define what ethics is and what it means to varying people in the workplace. Understanding what motivates people and understanding those people are key to both solving ethical dilemmas and workplace issues that can lead to greater job satisfaction and efficiency. To correct an issue\, you need to delve into the root cause &ndash\; the why?\n  
CLASS:PUBLIC
END:VEVENT
END:VCALENDAR
