BEGIN:VCALENDAR
VERSION:2.0
PRODID:
BEGIN:VEVENT
UID:467971mb
DTSTAMP:20260420T235938Z
DTSTART:20260507T180000Z
DTEND:20260507T185700Z
LOCATION: Online
SUMMARY: K2's Six Essential Teams Features
DESCRIPTION: The mad scramble to remote work and utilize apps like Teams has been trying for most organizations over the past couple of years. With a rush to install and no time to plan\, most team members did their best\, prioritizing remote meetings as the primary concern. Therefore\, as a result\, Teams is vastly misunderstood and underutilized in most organizations. Join us in this session to go beyond the remote meetings aspect of Teams and to learn how to optimize efficiency\, communication\, and workflow with Teams\n 



CLASS:PUBLIC
END:VEVENT
END:VCALENDAR
