BEGIN:VCALENDAR
VERSION:2.0
PRODID:
BEGIN:VEVENT
UID:467969mb
DTSTAMP:20260424T120840Z
DTSTART:20260507T170000Z
DTEND:20260507T184600Z
LOCATION: Online
SUMMARY: K2's Excel Best Practices And Features
DESCRIPTION: Microsoft Office Excel is one of the most widely used applications by accounting and financial professionals. Yet\, many remain unaware of new and improved features in Excel and\, therefore\, fail to reach the level of productivity and accuracy they desire. Further\, with new features appearing in Excel provided through Microsoft 365 subscriptions and Excel 2024\, it is more important now than ever to get up-to-speed on the world&rsquo\;s most popular spreadsheet!\n  

Make plans now to elevate your Excel skills by participating in this session. You will learn about the newer features available to improve efficiency and accuracy in it. You will also learn about the importance of numerous legacy features in Excel and how you can &ndash\; and should &ndash\; continue to use these tools to improve productivity\n 
CLASS:PUBLIC
END:VEVENT
END:VCALENDAR
