BEGIN:VCALENDAR
VERSION:2.0
PRODID:
BEGIN:VEVENT
UID:467962mb
DTSTAMP:20260421T124126Z
DTSTART:20260507T140000Z
DTEND:20260507T154800Z
LOCATION: Online
SUMMARY: Employees Today and Tomorrow : Are Employees Assets?
DESCRIPTION: As the managers' role continue to evolve\, it is crucial for us to understand the strategic aspects of managing a diverse workforce\, beginning with understanding the big trends in employee demographics. We begin with a rhetorical question - asking if employees are assets? GAAP tells us they are not\, so discussion will revolve around whether this treatment delivers an unhealthy bias on our view of the people in our organization. What do the most successful organizations believe and why? If you have an opinion as to whether employees are an asset or not\, this is a fun session intended to be interactive with participation either live\, virtual or both\n 
CLASS:PUBLIC
END:VEVENT
END:VCALENDAR
