BEGIN:VCALENDAR
VERSION:2.0
PRODID:
BEGIN:VEVENT
UID:467958mb
DTSTAMP:20260424T205117Z
DTSTART:20260506T210000Z
DTEND:20260506T230000Z
LOCATION: Online
SUMMARY: K2's Automation - Beyond The Basics With The Microsoft Power Platform
DESCRIPTION: This session isfor accounting professionals aiming to enhance their automation expertise with the low-code/no-code tools in Microsoft Power Apps and Power Automate. Participants will explore techniques to create simple workflows and develop custom applications\, including "describe it to design it." The session focuses on automating processes\, such as approvals\, workflow automation\, and data manipulation\, while accessing and utilizing data from Microsoft Fabric and external databases. Attendees will learn about different types of workflows and the platform's tools for Robotic Process Automation (RPA). Further\, they will leave with a better understanding of the Power Platform so they can drive digital transformation in their organizations\n 
CLASS:PUBLIC
END:VEVENT
END:VCALENDAR
