BEGIN:VCALENDAR
VERSION:2.0
PRODID:
BEGIN:VEVENT
UID:467956mb
DTSTAMP:20260422T132527Z
DTSTART:20260506T190000Z
DTEND:20260506T204900Z
LOCATION: Online
SUMMARY: K2'S Top Tech Productivity Tips And Tricks
DESCRIPTION: The world of work changed radically and became much more virtual after the pandemic&rsquo\;s onset in 2020.  Over two years into the &ldquo\;new normal\,&rdquo\; our team has compiled a list of the top technology productivity tips\, tricks\, and traps. \n  

In this session\, you will learn about shortcuts and hacks to help you accomplish more in Excel\, Teams\, Outlook\, virtual meetings\, and many other applications you use every day. Attend this session and learn the best tips to help you and your team accomplish more in less time\n 

 \n  
CLASS:PUBLIC
END:VEVENT
END:VCALENDAR
