BEGIN:VCALENDAR
VERSION:2.0
PRODID:
BEGIN:VEVENT
UID:467950mb
DTSTAMP:20260419T134502Z
DTSTART:20260506T160000Z
DTEND:20260506T170400Z
LOCATION: Online
SUMMARY: Top Employment Tools to Protect Your Business and Recommend to Business Clients
DESCRIPTION: Overview of the most important labor and employment policies and practices that every business should have. The review will go over confidentiality agreements\, arbitration agreements\, restrictive covenants\, training\, and severance agreements\, as well as compliance issues related to each of them. \n  
CLASS:PUBLIC
END:VEVENT
END:VCALENDAR
