BEGIN:VCALENDAR
VERSION:2.0
PRODID:
BEGIN:VEVENT
UID:467944mb
DTSTAMP:20260424T075325Z
DTSTART:20260506T140000Z
DTEND:20260506T145600Z
LOCATION: Online
SUMMARY: K2's OneDrive's Best Practices
DESCRIPTION: Although Windows incorporates the OneDrive app\, you may not have configured it correctly for your specific needs. Using the OneDrive app and the related Cloud storage service to their fullest potential means you can access your files when and where you need them. Further\, sharing your files and collaborating with others is easy when using OneDrive correctly. In this session\, you will learn best practices for taking full advantage of OneDrive\n 



CLASS:PUBLIC
END:VEVENT
END:VCALENDAR
