BEGIN:VCALENDAR
VERSION:2.0
PRODID:
BEGIN:VEVENT
UID:467911mb
DTSTAMP:20260424T215449Z
DTSTART:20260504T180000Z
DTEND:20260504T200000Z
LOCATION: Online
SUMMARY: K2's Formatting Excel Spreadsheets The Right Way
DESCRIPTION: Some estimates indicate that business professionals spend almost half their time in Excel applying formats. If you want better formatting results in less time\, participate in this session to learn the best practices for formatting your Excel spreadsheets\n 

In this session\, you will learn best practices for applying formats in your workbooks. More specifically\, you will learn about features such as Custom Format Codes\, Templates\, Styles\, the Accounting Format\, Precision as Displayed\, date formats\, and many others\, all of which can save you substantial time when working in Excel\n 
CLASS:PUBLIC
END:VEVENT
END:VCALENDAR
