BEGIN:VCALENDAR
VERSION:2.0
PRODID:
BEGIN:VEVENT
UID:467888mb
DTSTAMP:20260423T165001Z
DTSTART:20260502T160000Z
DTEND:20260502T170500Z
LOCATION: Online
SUMMARY: K2's Accounting Automation
DESCRIPTION: Why can it be hard to automate accounting? Because many accountants don&rsquo\;t know their options and\, therefore\, fail to reap the rewards of accounting automation\n 

This session will teach you how easy and profitable accounting automation can be. In it\, you will learn how to automate many traditional accounting processes\, often with technology you already own. In addition to bank feeds\, you will learn about automation options for processing accounts payable and receivable\, approving transactions\, and linking data from one platform to another. If you are serious about improving efficiency and accuracy\, you should make plans to attend this session\n 
CLASS:PUBLIC
END:VEVENT
END:VCALENDAR
