BEGIN:VCALENDAR
VERSION:2.0
PRODID:
BEGIN:VEVENT
UID:467885mb
DTSTAMP:20260423T164232Z
DTSTART:20260502T140000Z
DTEND:20260502T154600Z
LOCATION: Online
SUMMARY: K2's Accounting Solutions And Add-Ons For Small Businesses
DESCRIPTION: Working with a small business\, you know that keeping the company&#39\;s finances in order is critical to success. While numerous software programs and tools are available to help you do this\, they vary substantially in many significant aspects. In addition to conventional options like QuickBooks and Sage 50\, you can choose from Cloud-based tools such as Zoho Books\, QuickBooks Online\, Spire Systems\, Xero\, Accounting Suite\, Accounting Power\, and many more. In this session\, we&#39\;ll look at the best accounting tools for small businesses and discuss the benefits of each one. This session covers accounting solutions that should work for startups and companies with up to $10 million in annual revenue. We also cover various add-on solutions that can enhance the overall functionality of your accounting platform. Join us to learn your options for achieving your small business management financial goals\n 
CLASS:PUBLIC
END:VEVENT
END:VCALENDAR
