BEGIN:VCALENDAR
VERSION:2.0
PRODID:
BEGIN:VEVENT
UID:467877mb
DTSTAMP:20260420T153825Z
DTSTART:20260501T170000Z
DTEND:20260501T175800Z
LOCATION: Online
SUMMARY: Eight Biggest Threats to your business and introducing Three Pillars of Cybersecurity
DESCRIPTION: Cybercrime is on the rise and CPAs that handle sensitive client data are often the target of cybercrimes.  By attending this session you&#39\;ll learn what the eight biggest threats are to your business and uncover the three pillars of cybersecurity that you can build your firm&#39\;s defense around\n 
CLASS:PUBLIC
END:VEVENT
END:VCALENDAR
