BEGIN:VCALENDAR
VERSION:2.0
PRODID:
BEGIN:VEVENT
UID:467870mb
DTSTAMP:20260421T130643Z
DTSTART:20260501T143000Z
DTEND:20260501T161700Z
LOCATION: Online
SUMMARY: K2's Ten Must Know Features In Excel
DESCRIPTION: Most business professionals have used Excel for years\, often without the benefit of any formal training. Thus\, they don&#39\;t know about key features in the application and\, therefore\, don&#39\;t use them. Of course\, this leads to inefficiencies and errors. Isn&#39\;t it time to stop this madness? This session is for you if you&#39\;re ready to become more efficient and effective with Excel! You will learn ten critical features that can help you get more work done in less time and improve your accuracy. We encourage you to make plans to join us for this session to learn the best ways of working with Excel!\n  
CLASS:PUBLIC
END:VEVENT
END:VCALENDAR
