BEGIN:VCALENDAR
VERSION:2.0
PRODID:
BEGIN:VEVENT
UID:467852mb
DTSTAMP:20260425T142219Z
DTSTART:20260430T140000Z
DTEND:20260430T154600Z
LOCATION: Online
SUMMARY: K2's The Best Kept Secrets Of Microsoft 365
DESCRIPTION: Many organizations have implemented Microsoft 365/Office 365 at a basic level\, but few have truly explored the breadth and depth of tools included with their subscriptions. Some less commonly known apps help you manage shared email boxes\, create and use web forms\, schedule appointments\, trade shifts\, create real-time closed captions\, and translate presentations. Attend this session and learn more about the hidden features in Microsoft 365 that you can use to level up your productivity\n 
CLASS:PUBLIC
END:VEVENT
END:VCALENDAR
