BEGIN:VCALENDAR
VERSION:2.0
PRODID:
BEGIN:VEVENT
UID:467846mb
DTSTAMP:20260424T194335Z
DTSTART:20260429T190000Z
DTEND:20260429T223700Z
LOCATION: Online
SUMMARY: Managerial Accounting: Your Prescription for Better Decision Making
DESCRIPTION: This session revisits useful\, but potentially underutilized\, managerial accounting techniques. You will appreciate a fresh look at concepts you may not have considered since your college days. We will illustrate practical ways you can immediately implement managerial accounting analysis in your professional endeavors. \n  
CLASS:PUBLIC
END:VEVENT
END:VCALENDAR
