BEGIN:VCALENDAR
VERSION:2.0
PRODID:
BEGIN:VEVENT
UID:467843mb
DTSTAMP:20260420T151137Z
DTSTART:20260429T180000Z
DTEND:20260429T200000Z
LOCATION: Online
SUMMARY: Let's End Business Ethics
DESCRIPTION: Most ethics courses focus on unethical individuals and their terrible misdeeds. We don&#39\;t need another course on lessons from Enron or individuals committing fraud. Most unethical failures result from unethical individuals. Instead\, this session will focus on how good people can do better\, why there is no such thing as business ethics and why we only need one rule to lead ethical lives\n 
CLASS:PUBLIC
END:VEVENT
END:VCALENDAR
