BEGIN:VCALENDAR
VERSION:2.0
PRODID:
BEGIN:VEVENT
UID:467787mb
DTSTAMP:20260424T092851Z
DTSTART:20260427T170000Z
DTEND:20260427T181400Z
LOCATION: Online
SUMMARY: Revenue Recognition - Topic 606 Disclosures
DESCRIPTION: The standard also requires information about the following categories: \n  


	disaggregation of revenue
	contract balances
	performance obligations


This webinar will deal directly with disclosure requirements for the standard. Several courses currently exist on the platform related to an overview of the standard and deep dive into individual steps of the standards. 
 \n  
CLASS:PUBLIC
END:VEVENT
END:VCALENDAR
