BEGIN:VCALENDAR
VERSION:2.0
PRODID:
BEGIN:VEVENT
UID:467757mb
DTSTAMP:20260422T180514Z
DTSTART:20260424T190000Z
DTEND:20260424T205600Z
LOCATION: Online
SUMMARY: Partnership/LLC Taxation: Understanding Tax Basis Capital Accounts
DESCRIPTION: This program addresses the most recent developments impacting partnerships operating as LLCs\, with a focus on legislative\, administrative\, and tax form changes. Emphasis will be placed on partners &quot\;tax basis&quot\; capital accounts - now required for tax form reporting. \n  

*Please Note:  If you need credit reported to the IRS for this IRS approved program\, please download the IRS CE request form on the Coursw Materials Tab and submit to <a href="mailto:kori.herrera@acpen.com">kori.herrera@acpen.com</a>\n  
CLASS:PUBLIC
END:VEVENT
END:VCALENDAR
