BEGIN:VCALENDAR
VERSION:2.0
PRODID:
BEGIN:VEVENT
UID:467752mb
DTSTAMP:20260421T012836Z
DTSTART:20260424T170000Z
DTEND:20260424T184600Z
LOCATION: Online
SUMMARY: PowerPoint: Tips & Tricks for Today's Accountant
DESCRIPTION: PowerPoint is a widely available resource that is potentially underutilized by accountants because many accountants do not stray beyond Excel and Word in the Microsoft Office suite. You will learn how to create and edit a professional PowerPoint slide deck. This session places particular emphasis on efficiency tips and tricks that will allow you to develop creative\, professional visual aids while minimizing time and effort. The course&rsquo\;s author will share personal insights he has cultivated throughout more than two decades of public speaking. Although the session will focus on creating and editing slides\, we will illustrate best practices for presentation delivery. We will also explain how PowerPoint can be used for purposes other than delivering presentations\n 
CLASS:PUBLIC
END:VEVENT
END:VCALENDAR
