BEGIN:VCALENDAR
VERSION:2.0
PRODID:
BEGIN:VEVENT
UID:467751mb
DTSTAMP:20260423T120042Z
DTSTART:20260424T160000Z
DTEND:20260424T194900Z
LOCATION: Online
SUMMARY: Ethics - A Line in the Sand\; Implications for Daily Business
DESCRIPTION: Ethical behavior continues to be a problem in society and even in the CPA ranks. &quot\;Ethics - A Line in the Sand&quot\; looks at the behavioral issues that influence how CPA&#39\;s act. The course will address why individuals make ethical blunders\, the state of ethical conduct in business organizations\, the relationship between strong cultures\, policy and procedures and successful ethical work environments. In addition\, the course will highlight the one behavior to watch for as an indicator of potential ethical violations\n 
CLASS:PUBLIC
END:VEVENT
END:VCALENDAR
